Workbook
Name no_relay: 工作表2!$R$2
Name Range_LightMedium: 工作表2!#REF!
Name Range_LightMedium: 工作表2!#REF!
Name Range_Other: 工作表2!#REF!
Name Range_Other: 工作表2!#REF!
Name Range_Servre: 工作表2!#REF!
Name Range_Severe: 工作表2!#REF!
Name Range_Severe: 工作表2!#REF!
Name 一區25米接力: 工作表2!$O$2:$O$3
Name 一區UP接力: 工作表2!$N$2:$N$3
Name 二至四UP接力: 工作表2!$P$2
Name 二至四田項: 工作表2!$K$2:$K$6
Name 二至四徑項: 工作表2!$M$2:$M$6
Name 二至四徑項811: 工作表2!$L$2:$L$7
Name 二至四程度: 工作表2!$C$2:$C$3
Name 中: 工作表2!$D$11:$D$17
Name 其他100米接力: 工作表2!$Q$2:$Q$3
Name 第一區田項輕中: 工作表2!$G$2:$G$8
Name 第一區田項嚴: 工作表2!$F$2:$F$8
Name 第一區徑項輕中: 工作表2!$J$2:$J$8
Name 第一區徑項輕中811: 工作表2!$I$2:$I$9
Name 第一區徑項嚴: 工作表2!$H$2:$H$9
Name 第一區程度: 工作表2!$B$2:$B$4
Name 輕: 工作表2!$B$11:$B$17
Name 融合4x25_米接力賽: 工作表2!$N$2:$N$3
Name 嚴: 工作表2!$E$11:$E$17

Sheet 工作表1
A1: 第五十一屆香港特殊奧運會分區田徑賽報名表
A2: 機構代號︰
A3: 機構名稱︰ | C3: =VLOOKUP(C2,工作表4!A:C,2,FALSE) -> #N/A
A4: 機構類別︰ | C4: =VLOOKUP(C2,工作表4!A:C,3,FALSE) -> #N/A
A5: 區分︰ | C5: 第 | D5: =VLOOKUP(C2,工作表4!A:E,5,FALSE) -> #N/A | E5: 區
A6: 機構服務人數︰ | C6: =VLOOKUP(C2,工作表4!A:D,4,FALSE) -> #N/A
A7: 可報名人數︰ | C7: =IF(C4=工作表4!F2,C6*70%,IF(C4=工作表4!F3,C6*70%, C6*50%)) -> #N/A
A8: 運動員總人數︰ | C8: =COUNTIF(B26:B325, "運動員") -> 0
A9: 男︰ | C9: =COUNTIF(D26:D325, "男") -> 0
A10: 女︰ | C10: =COUNTIF(D26:D325, "女") -> 0
A11: 輕度︰ | C11: =COUNTIF(I26:I325, "輕") -> 0
A12: 中度︰ | C12: =COUNTIF(I26:I325, "中") -> 0
A13: 嚴重︰ | C13: =COUNTIF(I26:I325, "嚴") -> 0
A14: 融合伙伴人數︰ | C14: =COUNTIF(B26:B325, "融合伙伴") -> 0
A15: 輪椅︰ | C15: =COUNTIF(E26:E325, "要") -> 0
A16: 立定跳遠︰ | C16: =SUM(COUNTIFS(J26:J325, "立定跳遠")) -> 0 | D16: 擲豆袋︰ | E16: =SUM(COUNTIFS(J26:J325, "擲豆袋")) -> 0 | F16: 10米︰ | G16: =SUM(COUNTIFS(L26:L325, "10米")) -> 0 | H16: 100米︰ | I16: =SUM(COUNTIFS(L26:L325, "100米")) -> 0 | J16: 4x25米接力賽︰ | K16: =SUM(COUNTIFS(N26:N325, "4x25米接力賽")) -> 0
A17: 立定跳遠(嚴)︰ | C17: =SUM(COUNTIFS(J26:J325, "立定跳遠(嚴)")) -> 0 | D17: 擲網球︰ | E17: =SUM(COUNTIFS(J26:J325, "擲網球")) -> 0 | F17: 25米︰ | G17: =SUM(COUNTIFS(L26:L325, "25米")) -> 0 | H17: 200米︰ | I17: =SUM(COUNTIFS(L26:L325, "200米")) -> 0 | J17: 融合4x25米接力賽︰ | K17: =SUM(COUNTIFS(N26:N325, "融合4x25米接力賽")) -> 0
A18: 跳遠︰ | C18: =SUM(COUNTIFS(J26:J325, "跳遠")) -> 0 | D18: 擲壘球︰ | E18: =SUM(COUNTIFS(J26:J196, "擲壘球")) -> 0 | F18: 50米︰ | G18: =SUM(COUNTIFS(L26:L325, "50米")) -> 0 | H18: 400米︰ | I18: =SUM(COUNTIFS(L26:L325, "400米")) -> 0 | J18: 4x100 米接力賽︰ | K18: =SUM(COUNTIFS(N26:N325, "4x100米接力賽")) -> 0
A19: 跳高︰ | C19: =SUM(COUNTIFS(J26:J325, "跳高")) -> 0 | D19: 推鉛球︰ | E19: =SUM(COUNTIFS(J26:J325, "推鉛球")) -> 0 | F19: 50米(嚴)︰ | G19: =SUM(COUNTIFS(L26:L325, "50米(嚴)")) -> 0 | H19: 800米︰ | I19: =SUM(COUNTIFS(L26:L325, "800米")) -> 0 | J19: 融合4x100米接力賽︰ | K19: =SUM(COUNTIFS(N26:N325, "融合4x100米接力賽")) -> 0
H20: 1500米︰ | I20: =SUM(COUNTIFS(L26:L325, "1500米")) -> 0
A22: 編號 | B22: 運動員/融合伙伴 | C22: 中文姓名 | D22: 性別 | E22: 輪椅 | F22: 出生日期 | G22: 年齡 | H22: 年齡組別 | I22: 程度 | J22: 田項報名 | K22: 申報成績 輸入格式(以米為單位) | L22: 徑項報名 | M22: 申報成績 輸入格式(MM:SS.00) | N22: 接力報名1 | O22: 申報成績 輸入格式(MM:SS.00) | P22: 接力隊伍1名稱 | Q22: 程度 | R22: 田徑 | S22: 徑項 | T22: 接力
A23: 例1 | B23: 運動員 | C23: 陳大文 | D23: 男 | E23: 要 | F23: 43043 | G23: =IF(F23>0,(IF($D$5="二",DATEDIF(F23,工作表3!$B$3,"Y"), IF($D$5="三",DATEDIF(F23,工作表3!$B$4,"Y"), IF($D$5="四",DATEDIF(F23,工作表3!$B$5,"Y"), IF($D$5="一",DATEDIF(F23,工作表3!$B$2,"Y"), ))))),"""") -> #N/A | H23: =IF(AND(G23>=8,G23<=11),"8-11", IF(AND(G23>=12,G23<=15),"12-15", IF(AND(G23>=16,G23<=21),"16-21", IF(AND(G23>=22,G23<=29),"22-29", IF(G23>=30,"30或以上",""))))) -> #N/A | I23: 輕 | J23: 立定跳遠 | K23: 13.25 | L23: 100米 | M23: 0.0005806713 | N23: 4x100米接力賽 | O23: 0.00082118056 | P23: A
A24: 例2 | B24: 運動員 | C24: 李一一 | D24: 女 | E24: 不要 | F24: 43043 | G24: =IF(F24>0,(IF($D$5="二",DATEDIF(F24,工作表3!$B$3,"Y"), IF($D$5="三",DATEDIF(F24,工作表3!$B$4,"Y"), IF($D$5="四",DATEDIF(F24,工作表3!$B$5,"Y"), IF($D$5="一",DATEDIF(F24,工作表3!$B$2,"Y"), ))))),"""") -> #N/A | H24: =IF(AND(G24>=8,G24<=11),"8-11", IF(AND(G24>=12,G24<=15),"12-15", IF(AND(G24>=16,G24<=21),"16-21", IF(AND(G24>=22,G24<=29),"22-29", IF(G24>=30,"30或以上",""))))) -> #N/A | I24: 中 | J24: 擲壘球 | K24: 0.18 | L24: 50米 | M24: 0.00014282407 | O24: 0.0011141204 | P24: B
A25: 例3 | B25: 融合伙伴 | C25: 黃小明 | D25: 女 | F25: 39363 | G25: =IF(F25>0,(IF($D$5="二",DATEDIF(F25,工作表3!$B$3,"Y"), IF($D$5="三",DATEDIF(F25,工作表3!$B$4,"Y"), IF($D$5="四",DATEDIF(F25,工作表3!$B$5,"Y"), IF($D$5="一",DATEDIF(F25,工作表3!$B$2,"Y"), ))))),"""") -> #N/A | H25: =IF(AND(G25>=8,G25<=11),"8-11", IF(AND(G25>=12,G25<=15),"12-15", IF(AND(G25>=16,G25<=21),"16-21", IF(AND(G25>=22,G25<=29),"22-29", IF(G25>=30,"30或以上",""))))) -> #N/A | N25: 融合4x100米接力賽 | O25: 0.00091550926 | P25: A
A26: 1 | G26: =IF(F26>0,(IF($D$5="二",DATEDIF(F26,工作表3!$B$3,"Y"), IF($D$5="三",DATEDIF(F26,工作表3!$B$4,"Y"), IF($D$5="四",DATEDIF(F26,工作表3!$B$5,"Y"), IF($D$5="一",DATEDIF(F26,工作表3!$B$2,"Y"), ))))),"""") -> " | H26: =IF(AND(G26>=8,G26<=11),"8-11", IF(AND(G26>=12,G26<=15),"12-15", IF(AND(G26>=16,G26<=21),"16-21", IF(AND(G26>=22,G26<=29),"22-29", IF(G26>=30,"30或以上",""))))) -> 30或以上 | Q26: =IF($D$5="一","第一區程度","二至四程度") -> #N/A | R26: =IF(AND($D$5="一",I26="嚴"),"第一區田項嚴",IF(AND($D$5="一",OR(I26="輕",I26="中")),"第一區田項輕中",IF(OR($D$5="二",$D$5="三",$D$5="四"),"二至四田項",""))) -> #N/A | S26: =IF($D$5="一", IF(I26="嚴", "第一區徑項嚴", IF(H26="8-11", "第一區徑項輕中811", "第一區徑項輕中")), IF(H26="8-11", "二至四徑項811", "二至四徑項")) -> #N/A | T26: =IF(AND($D$5="一",B26="融合伙伴"),"一區UP接力",IF(AND($D$5="一",B26="運動員",OR(L26="10米",L26="25米",L26="50米",L26="50米(嚴)")),"一區25米接力",IF(AND($D$5="一",B26="運動員",OR(L26="100米",L26="200米",L26="400米",L26="800米",L26="1500米")),"其他100米接力",IF(AND(OR($D$5="二",$D$5="三",$D$5="四"),B26="融合伙伴"),"二至四UP接力",IF(AND(OR($D$5="二",$D$5="三",$D$5="四"),B26="運動員",OR(L26="100米",L26="200米",L26="400米",L26="800米",L26="1500米")),"其他100米接力"," no relay "))))) -> #N/A
A27: 2 | G27: =IF(F27>0,(IF($D$5="二",DATEDIF(F27,工作表3!$B$3,"Y"), IF($D$5="三",DATEDIF(F27,工作表3!$B$4,"Y"), IF($D$5="四",DATEDIF(F27,工作表3!$B$5,"Y"), IF($D$5="一",DATEDIF(F27,工作表3!$B$2,"Y"), ))))),"""") -> " | H27: =IF(AND(G27>=8,G27<=11),"8-11", IF(AND(G27>=12,G27<=15),"12-15", IF(AND(G27>=16,G27<=21),"16-21", IF(AND(G27>=22,G27<=29),"22-29", IF(G27>=30,"30或以上",""))))) -> 30或以上 | Q27: =IF($D$5="一","第一區程度","二至四程度") -> #N/A | R27: =IF(AND($D$5="一",I27="嚴"),"第一區田項嚴",IF(AND($D$5="一",OR(I27="輕",I27="中")),"第一區田項輕中",IF(OR($D$5="二",$D$5="三",$D$5="四"),"二至四田項",""))) -> #N/A | S27: =IF($D$5="一", IF(I27="嚴", "第一區徑項嚴", IF(H27="8-11", "第一區徑項輕中811", "第一區徑項輕中")), IF(H27="8-11", "二至四徑項811", "二至四徑項")) -> #N/A | T27: =IF(AND($D$5="一",B27="融合伙伴"),"一區UP接力",IF(AND($D$5="一",B27="運動員",OR(L27="10米",L27="25米",L27="50米",L27="50米(嚴)")),"一區25米接力",IF(AND($D$5="一",B27="運動員",OR(L27="100米",L27="200米",L27="400米",L27="800米",L27="1500米")),"其他100米接力",IF(AND(OR($D$5="二",$D$5="三",$D$5="四"),B27="融合伙伴"),"二至四UP接力",IF(AND(OR($D$5="二",$D$5="三",$D$5="四"),B27="運動員",OR(L27="100米",L27="200米",L27="400米",L27="800米",L27="1500米")),"其他100米接力"," no relay "))))) -> #N/A
A28: 3 | G28: =IF(F28>0,(IF($D$5="二",DATEDIF(F28,工作表3!$B$3,"Y"), IF($D$5="三",DATEDIF(F28,工作表3!$B$4,"Y"), IF($D$5="四",DATEDIF(F28,工作表3!$B$5,"Y"), IF($D$5="一",DATEDIF(F28,工作表3!$B$2,"Y"), ))))),"""") -> " | H28: =IF(AND(G28>=8,G28<=11),"8-11", IF(AND(G28>=12,G28<=15),"12-15", IF(AND(G28>=16,G28<=21),"16-21", IF(AND(G28>=22,G28<=29),"22-29", IF(G28>=30,"30或以上",""))))) -> 30或以上 | Q28: =IF($D$5="一","第一區程度","二至四程度") -> #N/A | R28: =IF(AND($D$5="一",I28="嚴"),"第一區田項嚴",IF(AND($D$5="一",OR(I28="輕",I28="中")),"第一區田項輕中",IF(OR($D$5="二",$D$5="三",$D$5="四"),"二至四田項",""))) -> #N/A | S28: =IF($D$5="一", IF(I28="嚴", "第一區徑項嚴", IF(H28="8-11", "第一區徑項輕中811", "第一區徑項輕中")), IF(H28="8-11", "二至四徑項811", "二至四徑項")) -> #N/A | T28: =IF(AND($D$5="一",B28="融合伙伴"),"一區UP接力",IF(AND($D$5="一",B28="運動員",OR(L28="10米",L28="25米",L28="50米",L28="50米(嚴)")),"一區25米接力",IF(AND($D$5="一",B28="運動員",OR(L28="100米",L28="200米",L28="400米",L28="800米",L28="1500米")),"其他100米接力",IF(AND(OR($D$5="二",$D$5="三",$D$5="四"),B28="融合伙伴"),"二至四UP接力",IF(AND(OR($D$5="二",$D$5="三",$D$5="四"),B28="運動員",OR(L28="100米",L28="200米",L28="400米",L28="800米",L28="1500米")),"其他100米接力"," no relay "))))) -> #N/A
A29: 4 | G29: =IF(F29>0,(IF($D$5="二",DATEDIF(F29,工作表3!$B$3,"Y"), IF($D$5="三",DATEDIF(F29,工作表3!$B$4,"Y"), IF($D$5="四",DATEDIF(F29,工作表3!$B$5,"Y"), IF($D$5="一",DATEDIF(F29,工作表3!$B$2,"Y"), ))))),"""") -> " | H29: =IF(AND(G29>=8,G29<=11),"8-11", IF(AND(G29>=12,G29<=15),"12-15", IF(AND(G29>=16,G29<=21),"16-21", IF(AND(G29>=22,G29<=29),"22-29", IF(G29>=30,"30或以上",""))))) -> 30或以上 | Q29: =IF($D$5="一","第一區程度","二至四程度") -> #N/A | R29: =IF(AND($D$5="一",I29="嚴"),"第一區田項嚴",IF(AND($D$5="一",OR(I29="輕",I29="中")),"第一區田項輕中",IF(OR($D$5="二",$D$5="三",$D$5="四"),"二至四田項",""))) -> #N/A | S29: =IF($D$5="一", IF(I29="嚴", "第一區徑項嚴", IF(H29="8-11", "第一區徑項輕中811", "第一區徑項輕中")), IF(H29="8-11", "二至四徑項811", "二至四徑項")) -> #N/A | T29: =IF(AND($D$5="一",B29="融合伙伴"),"一區UP接力",IF(AND($D$5="一",B29="運動員",OR(L29="10米",L29="25米",L29="50米",L29="50米(嚴)")),"一區25米接力",IF(AND($D$5="一",B29="運動員",OR(L29="100米",L29="200米",L29="400米",L29="800米",L29="1500米")),"其他100米接力",IF(AND(OR($D$5="二",$D$5="三",$D$5="四"),B29="融合伙伴"),"二至四UP接力",IF(AND(OR($D$5="二",$D$5="三",$D$5="四"),B29="運動員",OR(L29="100米",L29="200米",L29="400米",L29="800米",L29="1500米")),"其他100米接力"," no relay "))))) -> #N/A
A30: 5 | G30: =IF(F30>0,(IF($D$5="二",DATEDIF(F30,工作表3!$B$3,"Y"), IF($D$5="三",DATEDIF(F30,工作表3!$B$4,"Y"), IF($D$5="四",DATEDIF(F30,工作表3!$B$5,"Y"), IF($D$5="一",DATEDIF(F30,工作表3!$B$2,"Y"), ))))),"""") -> " | H30: =IF(AND(G30>=8,G30<=11),"8-11", IF(AND(G30>=12,G30<=15),"12-15", IF(AND(G30>=16,G30<=21),"16-21", IF(AND(G30>=22,G30<=29),"22-29", IF(G30>=30,"30或以上",""))))) -> 30或以上 | Q30: =IF($D$5="一","第一區程度","二至四程度") -> #N/A | R30: =IF(AND($D$5="一",I30="嚴"),"第一區田項嚴",IF(AND($D$5="一",OR(I30="輕",I30="中")),"第一區田項輕中",IF(OR($D$5="二",$D$5="三",$D$5="四"),"二至四田項",""))) -> #N/A | S30: =IF($D$5="一", IF(I30="嚴", "第一區徑項嚴", IF(H30="8-11", "第一區徑項輕中811", "第一區徑項輕中")), IF(H30="8-11", "二至四徑項811", "二至四徑項")) -> #N/A | T30: =IF(AND($D$5="一",B30="融合伙伴"),"一區UP接力",IF(AND($D$5="一",B30="運動員",OR(L30="10米",L30="25米",L30="50米",L30="50米(嚴)")),"一區25米接力",IF(AND($D$5="一",B30="運動員",OR(L30="100米",L30="200米",L30="400米",L30="800米",L30="1500米")),"其他100米接力",IF(AND(OR($D$5="二",$D$5="三",$D$5="四"),B30="融合伙伴"),"二至四UP接力",IF(AND(OR($D$5="二",$D$5="三",$D$5="四"),B30="運動員",OR(L30="100米",L30="200米",L30="400米",L30="800米",L30="1500米")),"其他100米接力"," no relay "))))) -> #N/A
A31: 6 | G31: =IF(F31>0,(IF($D$5="二",DATEDIF(F31,工作表3!$B$3,"Y"), IF($D$5="三",DATEDIF(F31,工作表3!$B$4,"Y"), IF($D$5="四",DATEDIF(F31,工作表3!$B$5,"Y"), IF($D$5="一",DATEDIF(F31,工作表3!$B$2,"Y"), ))))),"""") -> " | H31: =IF(AND(G31>=8,G31<=11),"8-11", IF(AND(G31>=12,G31<=15),"12-15", IF(AND(G31>=16,G31<=21),"16-21", IF(AND(G31>=22,G31<=29),"22-29", IF(G31>=30,"30或以上",""))))) -> 30或以上 | Q31: =IF($D$5="一","第一區程度","二至四程度") -> #N/A | R31: =IF(AND($D$5="一",I31="嚴"),"第一區田項嚴",IF(AND($D$5="一",OR(I31="輕",I31="中")),"第一區田項輕中",IF(OR($D$5="二",$D$5="三",$D$5="四"),"二至四田項",""))) -> #N/A | S31: =IF($D$5="一", IF(I31="嚴", "第一區徑項嚴", IF(H31="8-11", "第一區徑項輕中811", "第一區徑項輕中")), IF(H31="8-11", "二至四徑項811", "二至四徑項")) -> #N/A | T31: =IF(AND($D$5="一",B31="融合伙伴"),"一區UP接力",IF(AND($D$5="一",B31="運動員",OR(L31="10米",L31="25米",L31="50米",L31="50米(嚴)")),"一區25米接力",IF(AND($D$5="一",B31="運動員",OR(L31="100米",L31="200米",L31="400米",L31="800米",L31="1500米")),"其他100米接力",IF(AND(OR($D$5="二",$D$5="三",$D$5="四"),B31="融合伙伴"),"二至四UP接力",IF(AND(OR($D$5="二",$D$5="三",$D$5="四"),B31="運動員",OR(L31="100米",L31="200米",L31="400米",L31="800米",L31="1500米")),"其他100米接力"," no relay "))))) -> #N/A
A32: 7 | G32: =IF(F32>0,(IF($D$5="二",DATEDIF(F32,工作表3!$B$3,"Y"), IF($D$5="三",DATEDIF(F32,工作表3!$B$4,"Y"), IF($D$5="四",DATEDIF(F32,工作表3!$B$5,"Y"), IF($D$5="一",DATEDIF(F32,工作表3!$B$2,"Y"), ))))),"""") -> " | H32: =IF(AND(G32>=8,G32<=11),"8-11", IF(AND(G32>=12,G32<=15),"12-15", IF(AND(G32>=16,G32<=21),"16-21", IF(AND(G32>=22,G32<=29),"22-29", IF(G32>=30,"30或以上",""))))) -> 30或以上 | Q32: =IF($D$5="一","第一區程度","二至四程度") -> #N/A | R32: =IF(AND($D$5="一",I32="嚴"),"第一區田項嚴",IF(AND($D$5="一",OR(I32="輕",I32="中")),"第一區田項輕中",IF(OR($D$5="二",$D$5="三",$D$5="四"),"二至四田項",""))) -> #N/A | S32: =IF($D$5="一", IF(I32="嚴", "第一區徑項嚴", IF(H32="8-11", "第一區徑項輕中811", "第一區徑項輕中")), IF(H32="8-11", "二至四徑項811", "二至四徑項")) -> #N/A | T32: =IF(AND($D$5="一",B32="融合伙伴"),"一區UP接力",IF(AND($D$5="一",B32="運動員",OR(L32="10米",L32="25米",L32="50米",L32="50米(嚴)")),"一區25米接力",IF(AND($D$5="一",B32="運動員",OR(L32="100米",L32="200米",L32="400米",L32="800米",L32="1500米")),"其他100米接力",IF(AND(OR($D$5="二",$D$5="三",$D$5="四"),B32="融合伙伴"),"二至四UP接力",IF(AND(OR($D$5="二",$D$5="三",$D$5="四"),B32="運動員",OR(L32="100米",L32="200米",L32="400米",L32="800米",L32="1500米")),"其他100米接力"," no relay "))))) -> #N/A
A33: 8 | G33: =IF(F33>0,(IF($D$5="二",DATEDIF(F33,工作表3!$B$3,"Y"), IF($D$5="三",DATEDIF(F33,工作表3!$B$4,"Y"), IF($D$5="四",DATEDIF(F33,工作表3!$B$5,"Y"), IF($D$5="一",DATEDIF(F33,工作表3!$B$2,"Y"), ))))),"""") -> " | H33: =IF(AND(G33>=8,G33<=11),"8-11", IF(AND(G33>=12,G33<=15),"12-15", IF(AND(G33>=16,G33<=21),"16-21", IF(AND(G33>=22,G33<=29),"22-29", IF(G33>=30,"30或以上",""))))) -> 30或以上 | Q33: =IF($D$5="一","第一區程度","二至四程度") -> #N/A | R33: =IF(AND($D$5="一",I33="嚴"),"第一區田項嚴",IF(AND($D$5="一",OR(I33="輕",I33="中")),"第一區田項輕中",IF(OR($D$5="二",$D$5="三",$D$5="四"),"二至四田項",""))) -> #N/A | S33: =IF($D$5="一", IF(I33="嚴", "第一區徑項嚴", IF(H33="8-11", "第一區徑項輕中811", "第一區徑項輕中")), IF(H33="8-11", "二至四徑項811", "二至四徑項")) -> #N/A | T33: =IF(AND($D$5="一",B33="融合伙伴"),"一區UP接力",IF(AND($D$5="一",B33="運動員",OR(L33="10米",L33="25米",L33="50米",L33="50米(嚴)")),"一區25米接力",IF(AND($D$5="一",B33="運動員",OR(L33="100米",L33="200米",L33="400米",L33="800米",L33="1500米")),"其他100米接力",IF(AND(OR($D$5="二",$D$5="三",$D$5="四"),B33="融合伙伴"),"二至四UP接力",IF(AND(OR($D$5="二",$D$5="三",$D$5="四"),B33="運動員",OR(L33="100米",L33="200米",L33="400米",L33="800米",L33="1500米")),"其他100米接力"," no relay "))))) -> #N/A
A34: 9 | G34: =IF(F34>0,(IF($D$5="二",DATEDIF(F34,工作表3!$B$3,"Y"), IF($D$5="三",DATEDIF(F34,工作表3!$B$4,"Y"), IF($D$5="四",DATEDIF(F34,工作表3!$B$5,"Y"), IF($D$5="一",DATEDIF(F34,工作表3!$B$2,"Y"), ))))),"""") -> " | H34: =IF(AND(G34>=8,G34<=11),"8-11", IF(AND(G34>=12,G34<=15),"12-15", IF(AND(G34>=16,G34<=21),"16-21", IF(AND(G34>=22,G34<=29),"22-29", IF(G34>=30,"30或以上",""))))) -> 30或以上 | Q34: =IF($D$5="一","第一區程度","二至四程度") -> #N/A | R34: =IF(AND($D$5="一",I34="嚴"),"第一區田項嚴",IF(AND($D$5="一",OR(I34="輕",I34="中")),"第一區田項輕中",IF(OR($D$5="二",$D$5="三",$D$5="四"),"二至四田項",""))) -> #N/A | S34: =IF($D$5="一", IF(I34="嚴", "第一區徑項嚴", IF(H34="8-11", "第一區徑項輕中811", "第一區徑項輕中")), IF(H34="8-11", "二至四徑項811", "二至四徑項")) -> #N/A | T34: =IF(AND($D$5="一",B34="融合伙伴"),"一區UP接力",IF(AND($D$5="一",B34="運動員",OR(L34="10米",L34="25米",L34="50米",L34="50米(嚴)")),"一區25米接力",IF(AND($D$5="一",B34="運動員",OR(L34="100米",L34="200米",L34="400米",L34="800米",L34="1500米")),"其他100米接力",IF(AND(OR($D$5="二",$D$5="三",$D$5="四"),B34="融合伙伴"),"二至四UP接力",IF(AND(OR($D$5="二",$D$5="三",$D$5="四"),B34="運動員",OR(L34="100米",L34="200米",L34="400米",L34="800米",L34="1500米")),"其他100米接力"," no relay "))))) -> #N/A
A35: 10 | G35: =IF(F35>0,(IF($D$5="二",DATEDIF(F35,工作表3!$B$3,"Y"), IF($D$5="三",DATEDIF(F35,工作表3!$B$4,"Y"), IF($D$5="四",DATEDIF(F35,工作表3!$B$5,"Y"), IF($D$5="一",DATEDIF(F35,工作表3!$B$2,"Y"), ))))),"""") -> " | H35: =IF(AND(G35>=8,G35<=11),"8-11", IF(AND(G35>=12,G35<=15),"12-15", IF(AND(G35>=16,G35<=21),"16-21", IF(AND(G35>=22,G35<=29),"22-29", IF(G35>=30,"30或以上",""))))) -> 30或以上 | Q35: =IF($D$5="一","第一區程度","二至四程度") -> #N/A | R35: =IF(AND($D$5="一",I35="嚴"),"第一區田項嚴",IF(AND($D$5="一",OR(I35="輕",I35="中")),"第一區田項輕中",IF(OR($D$5="二",$D$5="三",$D$5="四"),"二至四田項",""))) -> #N/A | S35: =IF($D$5="一", IF(I35="嚴", "第一區徑項嚴", IF(H35="8-11", "第一區徑項輕中811", "第一區徑項輕中")), IF(H35="8-11", "二至四徑項811", "二至四徑項")) -> #N/A | T35: =IF(AND($D$5="一",B35="融合伙伴"),"一區UP接力",IF(AND($D$5="一",B35="運動員",OR(L35="10米",L35="25米",L35="50米",L35="50米(嚴)")),"一區25米接力",IF(AND($D$5="一",B35="運動員",OR(L35="100米",L35="200米",L35="400米",L35="800米",L35="1500米")),"其他100米接力",IF(AND(OR($D$5="二",$D$5="三",$D$5="四"),B35="融合伙伴"),"二至四UP接力",IF(AND(OR($D$5="二",$D$5="三",$D$5="四"),B35="運動員",OR(L35="100米",L35="200米",L35="400米",L35="800米",L35="1500米")),"其他100米接力"," no relay "))))) -> #N/A
A36: 11 | G36: =IF(F36>0,(IF($D$5="二",DATEDIF(F36,工作表3!$B$3,"Y"), IF($D$5="三",DATEDIF(F36,工作表3!$B$4,"Y"), IF($D$5="四",DATEDIF(F36,工作表3!$B$5,"Y"), IF($D$5="一",DATEDIF(F36,工作表3!$B$2,"Y"), ))))),"""") -> " | H36: =IF(AND(G36>=8,G36<=11),"8-11", IF(AND(G36>=12,G36<=15),"12-15", IF(AND(G36>=16,G36<=21),"16-21", IF(AND(G36>=22,G36<=29),"22-29", IF(G36>=30,"30或以上",""))))) -> 30或以上 | Q36: =IF($D$5="一","第一區程度","二至四程度") -> #N/A | R36: =IF(AND($D$5="一",I36="嚴"),"第一區田項嚴",IF(AND($D$5="一",OR(I36="輕",I36="中")),"第一區田項輕中",IF(OR($D$5="二",$D$5="三",$D$5="四"),"二至四田項",""))) -> #N/A | S36: =IF($D$5="一", IF(I36="嚴", "第一區徑項嚴", IF(H36="8-11", "第一區徑項輕中811", "第一區徑項輕中")), IF(H36="8-11", "二至四徑項811", "二至四徑項")) -> #N/A | T36: =IF(AND($D$5="一",B36="融合伙伴"),"一區UP接力",IF(AND($D$5="一",B36="運動員",OR(L36="10米",L36="25米",L36="50米",L36="50米(嚴)")),"一區25米接力",IF(AND($D$5="一",B36="運動員",OR(L36="100米",L36="200米",L36="400米",L36="800米",L36="1500米")),"其他100米接力",IF(AND(OR($D$5="二",$D$5="三",$D$5="四"),B36="融合伙伴"),"二至四UP接力",IF(AND(OR($D$5="二",$D$5="三",$D$5="四"),B36="運動員",OR(L36="100米",L36="200米",L36="400米",L36="800米",L36="1500米")),"其他100米接力"," no relay "))))) -> #N/A
A37: 12 | G37: =IF(F37>0,(IF($D$5="二",DATEDIF(F37,工作表3!$B$3,"Y"), IF($D$5="三",DATEDIF(F37,工作表3!$B$4,"Y"), IF($D$5="四",DATEDIF(F37,工作表3!$B$5,"Y"), IF($D$5="一",DATEDIF(F37,工作表3!$B$2,"Y"), ))))),"""") -> " | H37: =IF(AND(G37>=8,G37<=11),"8-11", IF(AND(G37>=12,G37<=15),"12-15", IF(AND(G37>=16,G37<=21),"16-21", IF(AND(G37>=22,G37<=29),"22-29", IF(G37>=30,"30或以上",""))))) -> 30或以上 | Q37: =IF($D$5="一","第一區程度","二至四程度") -> #N/A | R37: =IF(AND($D$5="一",I37="嚴"),"第一區田項嚴",IF(AND($D$5="一",OR(I37="輕",I37="中")),"第一區田項輕中",IF(OR($D$5="二",$D$5="三",$D$5="四"),"二至四田項",""))) -> #N/A | S37: =IF($D$5="一", IF(I37="嚴", "第一區徑項嚴", IF(H37="8-11", "第一區徑項輕中811", "第一區徑項輕中")), IF(H37="8-11", "二至四徑項811", "二至四徑項")) -> #N/A | T37: =IF(AND($D$5="一",B37="融合伙伴"),"一區UP接力",IF(AND($D$5="一",B37="運動員",OR(L37="10米",L37="25米",L37="50米",L37="50米(嚴)")),"一區25米接力",IF(AND($D$5="一",B37="運動員",OR(L37="100米",L37="200米",L37="400米",L37="800米",L37="1500米")),"其他100米接力",IF(AND(OR($D$5="二",$D$5="三",$D$5="四"),B37="融合伙伴"),"二至四UP接力",IF(AND(OR($D$5="二",$D$5="三",$D$5="四"),B37="運動員",OR(L37="100米",L37="200米",L37="400米",L37="800米",L37="1500米")),"其他100米接力"," no relay "))))) -> #N/A
... A325: 300 | G325: =IF(F325>0,(IF($D$5="二",DATEDIF(F325,工作表3!$B$3,"Y"), IF($D$5="三",DATEDIF(F325,工作表3!$B$4,"Y"), IF($D$5="四",DATEDIF(F325,工作表3!$B$5,"Y"), IF($D$5="一",DATEDIF(F325,工作表3!$B$2,"Y"), ))))),"""") -> " | H325: =IF(AND(G325>=8,G325<=11),"8-11", IF(AND(G325>=12,G325<=15),"12-15", IF(AND(G325>=16,G325<=21),"16-21", IF(AND(G325>=22,G325<=29),"22-29", IF(G325>=30,"30或以上",""))))) -> 30或以上 | Q325: =IF($D$5="一","第一區程度","二至四程度") -> #N/A | R325: =IF(AND($D$5="一",I325="嚴"),"第一區田項嚴",IF(AND($D$5="一",OR(I325="輕",I325="中")),"第一區田項輕中",IF(OR($D$5="二",$D$5="三",$D$5="四"),"二至四田項",""))) -> #N/A | S325: =IF($D$5="一", IF(I325="嚴", "第一區徑項嚴", IF(H325="8-11", "第一區徑項輕中811", "第一區徑項輕中")), IF(H325="8-11", "二至四徑項811", "二至四徑項")) -> #N/A | T325: =IF(AND($D$5="一",B325="融合伙伴"),"一區UP接力",IF(AND($D$5="一",B325="運動員",OR(L325="10米",L325="25米",L325="50米",L325="50米(嚴)")),"一區25米接力",IF(AND($D$5="一",B325="運動員",OR(L325="100米",L325="200米",L325="400米",L325="800米",L325="1500米")),"其他100米接力",IF(AND(OR($D$5="二",$D$5="三",$D$5="四"),B325="融合伙伴"),"二至四UP接力",IF(AND(OR($D$5="二",$D$5="三",$D$5="四"),B325="運動員",OR(L325="100米",L325="200米",L325="400米",L325="800米",L325="1500米")),"其他100米接力"," no relay "))))) -> #N/A

Sheet 工作表2
A1: 運動員 | B1: 第一區程度 | C1: 二至四程度 | D1: 性別 | E1: 輪椅 | F1: 第一區田項嚴 | G1: 第一區田項輕中 | H1: 第一區徑項嚴 | I1: 第一區徑項輕中8-11 | J1: 第一區徑項輕中 | K1: 第二至四區田項 | L1: 第二至四區徑項8-11 | M1: 第二至四區徑項 | N1: 一區UP接力 | O1: 一區25米接力 | P1: 二至四UP接力 | Q1: 其他100米接力 | R1: no relay | S1: 接力隊伍名稱
A2: 運動員 | B2: 輕 | C2: 輕 | D2: 男 | E2: 要 | F2: 立定跳遠(嚴) | G2: 立定跳遠 | H2: 10米 | I2: 10米 | J2: 10米 | K2: 立定跳遠 | L2: 50米 | M2: 100米 | N2: 融合4x25米接力賽 | O2: 4x25米接力賽 | P2: 融合4x100米接力賽 | Q2: 4x100米接力賽 | S2: A
A3: 融合伙伴 | B3: 中 | C3: 中 | D3: 女 | E3: 不要 | F3: 跳遠 | G3: 跳遠 | H3: 25米 | I3: 25米 | J3: 25米 | K3: 跳遠 | L3: 100米 | M3: 200米 | N3: 融合4x100米接力賽 | O3: 融合4x25米接力賽 | Q3: 融合4x100米接力賽 | S3: B
B4: 嚴 | F4: 跳高 | G4: 跳高 | H4: 50米(嚴) | I4: 50米 | J4: 100米 | K4: 跳高 | L4: 200米 | M4: 400米 | S4: C
F5: 擲豆袋 | G5: 擲豆袋 | H5: 100米 | I5: 100米 | J5: 200米 | K5: 擲壘球 | L5: 400米 | M5: 800米 | S5: D
F6: 擲網球 | G6: 擲網球 | H6: 200米 | I6: 200米 | J6: 400米 | K6: 推鉛球 | L6: 800米 | M6: 1500米 | S6: E
F7: 擲壘球 | G7: 擲壘球 | H7: 400米 | I7: 400米 | J7: 800米 | L7: 1500米 | S7: F
F8: 推鉛球 | G8: 推鉛球 | H8: 800米 | I8: 800米 | J8: 1500米
H9: 1500米 | I9: 1500米
A10: 田項報名 | B10: 輕 | D10: 中 | E10: 嚴
B11: 立定跳遠 | D11: 立定跳遠 | E11: 立定跳遠
B12: 跳遠 | D12: 跳遠 | E12: 跳遠
B13: 跳高 | D13: 跳高 | E13: 跳高
B14: 擲壘球 | D14: 擲壘球 | E14: 擲壘球
B15: 推鉛球 | D15: 推鉛球 | E15: 推鉛球
E16: 擲網球
E17: 擲豆袋
A20: 徑項報名 | B20: 輕 | D20: 中 | E20: 嚴
B21: 50米 | D21: 50米 | E21: 10米
B22: 100米 | D22: 100米 | E22: 25米
B23: 200米 | D23: 200米 | E23: 50米
B24: 400米 | D24: 400米 | E24: 100米
B25: 800米 | D25: 800米 | E25: 200米
B26: 1500米 | D26: 1500米 | E26: 400米
E27: 800米
E28: 1500米

Sheet 工作表3
A1: 區分 | B1: 年齡計算日期
A2: 一 | B2: 46361
A3: 二 | B3: 46368
A4: 三 | B4: 46403
A5: 四 | B5: 46410

Sheet 工作表4
A1: 代號 | B1: 機構名稱(中) | C1: 私人機構 / 學校或社署資助 | D1: 機構服務人數 | E1: 區份 | F1: 機構類別
A2: APC | B2: 奧柏學校 | C2: 其他:私立學校 | D2: 10 | E2: =VLOOKUP(A2, 工作表5!A:C, 3, FALSE) -> 二 | F2: 教育局資助
A3: BMK | B3: 香港耀能協會羅怡基紀念學校 | C3: 教育局資助 | D3: 117 | E3: =VLOOKUP(A3, 工作表5!A:C, 3, FALSE) -> 三 | F3: 社署資助
A4: CFS | B4: 基督教家庭服務中心 | C4: 社署資助 | D4: 665 | E4: =VLOOKUP(A4, 工作表5!A:C, 3, FALSE) -> 一 | F4: 其他:學校
A5: CHT | B5: 明愛樂薈牽 | C5: 社署資助 | D5: 510 | E5: =VLOOKUP(A5, 工作表5!A:C, 3, FALSE) -> 一 | F5: 其他:私立學校
A6: CJS | B6: 才俊學校 | C6: 教育局資助 | D6: 240 | E6: =VLOOKUP(A6, 工作表5!A:C, 3, FALSE) -> 三 | F6: 其他:自助組織
A7: CLB | B7: 佛教志蓮中學 | C7: 教育局資助 | D7: 47 | E7: =VLOOKUP(A7, 工作表5!A:C, 3, FALSE) -> 二 | F7: 其他:家長自助組織
A8: CLM | B8: 明愛樂務綜合職業訓練中心 | C8: 社署資助 | D8: 220 | E8: =VLOOKUP(A8, 工作表5!A:C, 3, FALSE) -> 二 | F8: 其他:慈善團體
A9: CLP | B9: 東華三院包玉星學校 | C9: 教育局資助 | D9: 150 | E9: =VLOOKUP(A9, 工作表5!A:C, 3, FALSE) -> 二 | F9: 其他:中心及宿舍
A10: CNC | B10: 香港四邑商工總會陳南昌紀念學校 | C10: 社署資助 | D10: 160 | E10: =VLOOKUP(A10, 工作表5!A:C, 3, FALSE) -> 三 | F10: 其他:私人公司
A11: CPK | B11: 保良局陳百強伉儷青衣學校 | C11: 教育局資助 | D11: 82 | E11: =VLOOKUP(A11, 工作表5!A:C, 3, FALSE) -> 一
A12: CSN | B12: 香港特殊需要人士游泳學院有限公司 | C12: 其他:私人公司 | D12: 100 | E12: 一
A13: CWS | B13: 香港心理衛生會臻和學校 | C13: 教育局資助 | D13: 106 | E13: =VLOOKUP(A13, 工作表5!A:C, 3, FALSE) -> 一
A14: DSA | B14: 香港唐氏綜合症協會 | C14: 社署資助 | D14: 1100 | E14: =VLOOKUP(A14, 工作表5!A:C, 3, FALSE) -> 一
A15: ENH | B15: 心光恩望學校 | C15: 教育局資助 | D15: 67 | E15: =VLOOKUP(A15, 工作表5!A:C, 3, FALSE) -> 一
A16: FHM | B16: 炮台山循道衛理中學 | C16: 其他:學校 | D16: 100 | E16: =VLOOKUP(A16, 工作表5!A:C, 3, FALSE) -> 一
A17: GGN | B17: 香港青草音符關愛有限公司 | C17: 其他:慈善團體 | D17: 400 | E17: =VLOOKUP(A17, 工作表5!A:C, 3, FALSE) -> 二
A18: HDS | B18: 匡智地區支援中心(觀塘西) | C18: 社署資助 | D18: 300 | E18: =VLOOKUP(A18, 工作表5!A:C, 3, FALSE) -> 一
A19: HKS | B19: 將軍澳培智學校 | C19: 教育局資助 | D19: 120 | E19: =VLOOKUP(A19, 工作表5!A:C, 3, FALSE) -> 一
A20: HWS | B20: 基督教中國佈道會聖道學校 | C20: 教育局資助 | D20: 159 | E20: =VLOOKUP(A20, 工作表5!A:C, 3, FALSE) -> 二
A21: IDE | B21: 勵智協進會有限公司 | C21: 其他:家長自助組織 | D21: 900 | E21: =VLOOKUP(A21, 工作表5!A:C, 3, FALSE) -> 一
A22: JCP | B22: 香港弱智人士家長聯會 | C22: 社署資助 | D22: 3414 | E22: =VLOOKUP(A22, 工作表5!A:C, 3, FALSE) -> 一
A23: JCS | B23: 賽馬會匡智學校 | C23: 其他:學校 | D23: 69 | E23: =VLOOKUP(A23, 工作表5!A:C, 3, FALSE) -> 一
A24: KFS | B24: 東華三院群芳啟智學校 | C24: 教育局資助 | D24: 117 | E24: =VLOOKUP(A24, 工作表5!A:C, 3, FALSE) -> 二
... A64: YYL | B64: 道慈佛社楊日霖紀念學校 | C64: 教育局資助 | D64: 270 | E64: =VLOOKUP(A64, 工作表5!A:C, 3, FALSE) -> 四
A65: CAC | B65: 明愛樂欣軒 | C65: 待完成機構註冊後更新，請與所屬區分負責同事聯絡 | D65: 待完成機構註冊後更新，請與所屬區分負責同事聯絡 | E65: 一
A66: CHH | B66: 明愛陳震夏宿舍 | C66: 待完成機構註冊後更新，請與所屬區分負責同事聯絡 | D66: 待完成機構註冊後更新，請與所屬區分負責同事聯絡 | E66: 一
A67: CLK | B67: 明愛樂勤學校 | C67: 待完成機構註冊後更新，請與所屬區分負責同事聯絡 | D67: 待完成機構註冊後更新，請與所屬區分負責同事聯絡 | E67: 一
A68: CLY | B68: 明愛樂義學校 | C68: 待完成機構註冊後更新，請與所屬區分負責同事聯絡 | D68: 待完成機構註冊後更新，請與所屬區分負責同事聯絡 | E68: 一
A69: CYS | B69: 慈恩學校 | C69: 待完成機構註冊後更新，請與所屬區分負責同事聯絡 | D69: 待完成機構註冊後更新，請與所屬區分負責同事聯絡 | E69: 一
A70: DCC | B70: 基督教家庭服務中心迪智展能中心暨宿舍 | C70: 待完成機構註冊後更新，請與所屬區分負責同事聯絡 | D70: 待完成機構註冊後更新，請與所屬區分負責同事聯絡 | E70: 一
A71: FIR | B71: 匡智粉嶺綜合復康中心 | C71: 待完成機構註冊後更新，請與所屬區分負責同事聯絡 | D71: 待完成機構註冊後更新，請與所屬區分負責同事聯絡 | E71: 一
A72: HCJ | B72: 匡智賽馬會松嶺宿舍 | C72: 待完成機構註冊後更新，請與所屬區分負責同事聯絡 | D72: 待完成機構註冊後更新，請與所屬區分負責同事聯絡 | E72: 一
A73: HCP | B73: 匡智松嶺第二校 | C73: 待完成機構註冊後更新，請與所屬區分負責同事聯絡 | D73: 待完成機構註冊後更新，請與所屬區分負責同事聯絡 | E73: 一
A74: HVC | B74: 聖雅各福群會跑馬地綜合服務隊 | C74: 待完成機構註冊後更新，請與所屬區分負責同事聯絡 | D74: 待完成機構註冊後更新，請與所屬區分負責同事聯絡 | E74: 一
A75: IRS | B75: 基督教懷智服務處將軍澳綜合復康服務中心 | C75: 待完成機構註冊後更新，請與所屬區分負責同事聯絡 | D75: 待完成機構註冊後更新，請與所屬區分負責同事聯絡 | E75: 一
A76: LHC | B76: 香港心理衛生會隆亨中心 | C76: 待完成機構註冊後更新，請與所屬區分負責同事聯絡 | D76: 待完成機構註冊後更新，請與所屬區分負責同事聯絡 | E76: 一
... A111: TML | B111: 匡智屯門晨曦學校 | C111: 待完成機構註冊後更新，請與所屬區分負責同事聯絡 | D111: 待完成機構註冊後更新，請與所屬區分負責同事聯絡 | E111: 四

Sheet 工作表5
A1: 代號 | B1: 機構名稱(中) | C1: 區份
A2: CAC | B2: 明愛樂欣軒 | C2: 一 | D2: =COUNTIF(工作表4!A:A, A2)>0 -> TRUE
A3: APC | B3: 奧柏學校 | C3: 二 | D3: =COUNTIF(工作表4!A:A, A3)>0 -> TRUE
A4: CHH | B4: 明愛陳震夏宿舍 | C4: 一 | D4: =COUNTIF(工作表4!A:A, A4)>0 -> TRUE
A5: BMK | B5: 香港耀能協會羅怡基紀念學校 | C5: 三 | D5: =COUNTIF(工作表4!A:A, A5)>0 -> TRUE
A6: CLK | B6: 明愛樂勤學校 | C6: 一 | D6: =COUNTIF(工作表4!A:A, A6)>0 -> TRUE
A7: CLY | B7: 明愛樂義學校 | C7: 一 | D7: =COUNTIF(工作表4!A:A, A7)>0 -> TRUE
A8: CFS | B8: 基督教家庭服務中心(殘疾人士綜合服務) | C8: 一 | D8: =COUNTIF(工作表4!A:A, A8)>0 -> TRUE
A9: CHT | B9: 明愛樂薈牽 | C9: 一 | D9: =COUNTIF(工作表4!A:A, A9)>0 -> TRUE
A10: CYS | B10: 慈恩學校 | C10: 一 | D10: =COUNTIF(工作表4!A:A, A10)>0 -> TRUE
A11: DCC | B11: 基督教家庭服務中心迪智展能中心暨宿舍 | C11: 一 | D11: =COUNTIF(工作表4!A:A, A11)>0 -> TRUE
A12: CJS | B12: 才俊學校 | C12: 三 | D12: =COUNTIF(工作表4!A:A, A12)>0 -> TRUE
A13: CLB | B13: 佛教志蓮中學 | C13: 二 | D13: =COUNTIF(工作表4!A:A, A13)>0 -> TRUE
... A110: YYL | B110: 道慈佛社楊日霖紀念學校 | C110: 四 | D110: =COUNTIF(工作表4!A:A, A110)>0 -> TRUE
